BEGIN:VCALENDAR
VERSION:2.0
PRODID:SchoolNow
CALSCALE:GREGORIAN
BEGIN:VEVENT
UID:c9f542b8-dc4e-11f0-8ab8-0a58a9feac02
DTSTAMP:20251218T201900Z
SUMMARY:Teacher Workshop Day - October 9\, 2026
URL;VALUE=URI:https://www.orcsd.org/moh/calendar/8825844/teacher-workshop-d
 ay-october-9-2026
DTSTART;VALUE=DATE:20261009
DTEND;VALUE=DATE:20261010
END:VEVENT
END:VCALENDAR
