BEGIN:VCALENDAR
VERSION:2.0
PRODID:SchoolNow
CALSCALE:GREGORIAN
BEGIN:VEVENT
UID:22a43b80-dc4f-11f0-bf86-0a58a9feac02
DTSTAMP:20251218T202129Z
SUMMARY:Columbus Day - October 12\, 2026
URL;VALUE=URI:https://www.orcsd.org/moh/calendar/8825853/columbus-day-octob
 er-12-2026
DTSTART;VALUE=DATE:20261012
DTEND;VALUE=DATE:20261013
END:VEVENT
END:VCALENDAR
