BEGIN:VCALENDAR
VERSION:2.0
PRODID:SchoolNow
CALSCALE:GREGORIAN
BEGIN:VEVENT
UID:3021b18e-dc4f-11f0-9dd9-0a58a9feac02
DTSTAMP:20251218T202151Z
SUMMARY:Teacher Workshop Day - November 3\, 2026
URL;VALUE=URI:https://www.orcsd.org/moh/calendar/8825857/teacher-workshop-d
 ay-november-3-2026
DTSTART;VALUE=DATE:20261103
DTEND;VALUE=DATE:20261104
END:VEVENT
END:VCALENDAR
