BEGIN:VCALENDAR
VERSION:2.0
PRODID:SchoolNow
CALSCALE:GREGORIAN
BEGIN:VEVENT
UID:51eb12b0-dc4f-11f0-80de-0a58a9feac02
DTSTAMP:20251218T202248Z
SUMMARY:Thanksgiving Break - November 25-27\, 2026
URL;VALUE=URI:https://www.orcsd.org/moh/calendar/8825865/thanksgiving-break
 -november-25-27-2026
DTSTART;VALUE=DATE:20261125
DTEND;VALUE=DATE:20261128
END:VEVENT
END:VCALENDAR
