BEGIN:VCALENDAR
VERSION:2.0
PRODID:SchoolNow
CALSCALE:GREGORIAN
BEGIN:VEVENT
UID:928a21ee-dc4f-11f0-8846-0a58a9feac02
DTSTAMP:20251218T202436Z
SUMMARY:First Day of School (PK-12) - August 31\, 2026
URL;VALUE=URI:https://www.orcsd.org/moh/calendar/8825869/first-day-of-schoo
 l-pk-12-august-31-2026
DTSTART;VALUE=DATE:20260831
DTEND;VALUE=DATE:20260901
END:VEVENT
END:VCALENDAR
