BEGIN:VCALENDAR
VERSION:2.0
PRODID:SchoolNow
CALSCALE:GREGORIAN
BEGIN:VEVENT
UID:a1c27542-dc51-11f0-a01a-0a58a9feac02
DTSTAMP:20251218T203921Z
SUMMARY:Winter Break - Dec 24-Jan 1\, 2027
URL;VALUE=URI:https://www.orcsd.org/moh/calendar/8825881/winter-break-dec-2
 4-jan-1-2027
DTSTART;VALUE=DATE:20261224
DTEND;VALUE=DATE:20270102
END:VEVENT
END:VCALENDAR
