BEGIN:VCALENDAR
VERSION:2.0
PRODID:SchoolNow
CALSCALE:GREGORIAN
BEGIN:VEVENT
UID:ee37b5f4-dc51-11f0-87d4-0a58a9feac02
DTSTAMP:20251218T204129Z
SUMMARY:February Break - February 22-26\, 2027
URL;VALUE=URI:https://www.orcsd.org/moh/calendar/8825911/february-break-feb
 ruary-22-26-2027
DTSTART;VALUE=DATE:20270222
DTEND;VALUE=DATE:20270227
END:VEVENT
END:VCALENDAR
