BEGIN:VCALENDAR
VERSION:2.0
PRODID:SchoolNow
CALSCALE:GREGORIAN
BEGIN:VEVENT
UID:fb0dda4c-dc51-11f0-be47-0a58a9feac02
DTSTAMP:20251218T204151Z
SUMMARY:Teacher Workshop Day - March 26\, 2027
URL;VALUE=URI:https://www.orcsd.org/moh/calendar/8825915/teacher-workshop-d
 ay-march-26-2027
DTSTART;VALUE=DATE:20270326
DTEND;VALUE=DATE:20270327
END:VEVENT
END:VCALENDAR
