BEGIN:VCALENDAR
VERSION:2.0
PRODID:SchoolNow
CALSCALE:GREGORIAN
BEGIN:VEVENT
UID:08ebfffe-dc52-11f0-ac84-0affe3db8457
DTSTAMP:20251218T204214Z
SUMMARY:April Break - April 26-30\, 2027
URL;VALUE=URI:https://www.orcsd.org/moh/calendar/8825919/april-break-april-
 26-30-2027
DTSTART;VALUE=DATE:20270426
DTEND;VALUE=DATE:20270501
END:VEVENT
END:VCALENDAR
