BEGIN:VCALENDAR
VERSION:2.0
PRODID:SchoolNow
CALSCALE:GREGORIAN
BEGIN:VEVENT
UID:16509344-dc52-11f0-9be3-0a58a9feac02
DTSTAMP:20251218T204236Z
SUMMARY:Teacher Workshop Day - May 28\, 2027
URL;VALUE=URI:https://www.orcsd.org/moh/calendar/8825923/teacher-workshop-d
 ay-may-28-2027
DTSTART;VALUE=DATE:20270528
DTEND;VALUE=DATE:20270529
END:VEVENT
END:VCALENDAR
