BEGIN:VCALENDAR
VERSION:2.0
PRODID:SchoolNow
CALSCALE:GREGORIAN
BEGIN:VEVENT
UID:21d022b6-dc52-11f0-beb9-0a58a9feac02
DTSTAMP:20251218T204256Z
SUMMARY:Memorial Day - May 31\, 2027
URL;VALUE=URI:https://www.orcsd.org/moh/calendar/8825927/memorial-day-may-3
 1-2027
DTSTART;VALUE=DATE:20270531
DTEND;VALUE=DATE:20270601
END:VEVENT
END:VCALENDAR
