BEGIN:VCALENDAR
VERSION:2.0
PRODID:SchoolNow
CALSCALE:GREGORIAN
BEGIN:VEVENT
UID:7f0edd0a-dc52-11f0-8ce6-0a58a9feac02
DTSTAMP:20251218T204532Z
SUMMARY:Juneteenth Observed - June 18\, 2027
URL;VALUE=URI:https://www.orcsd.org/moh/calendar/8825933/juneteenth-observe
 d-june-18-2027
DTSTART;VALUE=DATE:20270618
DTEND;VALUE=DATE:20270619
END:VEVENT
END:VCALENDAR
