BEGIN:VCALENDAR
VERSION:2.0
PRODID:SchoolNow
CALSCALE:GREGORIAN
BEGIN:VEVENT
UID:8d0cee9c-dc52-11f0-96a7-0a58a9feac02
DTSTAMP:20251218T204556Z
SUMMARY:Last Day of School (With 5 built-in Snow Days) - June 25\, 2027
URL;VALUE=URI:https://www.orcsd.org/moh/calendar/8825937/last-day-of-school
 -with-5-built-in-snow-days-june-25-2027
DTSTART;VALUE=DATE:20270625
DTEND;VALUE=DATE:20270626
END:VEVENT
END:VCALENDAR
