BEGIN:VCALENDAR
VERSION:2.0
PRODID:SchoolNow
CALSCALE:GREGORIAN
BEGIN:VEVENT
UID:5667bb12-f99f-11ed-b0bf-0204fead2161
DTSTAMP:20230523T192416Z
SUMMARY:Martin Luther King Day-January 15\, 2024
URL;VALUE=URI:https://www.orcsd.org/mw/calendar/4290651/martin-luther-king-
 day
DTSTART;VALUE=DATE:20240115
DTEND;VALUE=DATE:20240116
END:VEVENT
END:VCALENDAR
