BEGIN:VCALENDAR
VERSION:2.0
PRODID:SchoolNow
CALSCALE:GREGORIAN
BEGIN:VEVENT
UID:dec3dc16-f99f-11ed-9448-0ea260464b55
DTSTAMP:20230523T192735Z
SUMMARY:April Recess-April 22-26\, 2024
URL;VALUE=URI:https://www.orcsd.org/mw/calendar/4290667/april-recess
DTSTART;VALUE=DATE:20240422
DTEND;VALUE=DATE:20240427
END:VEVENT
END:VCALENDAR
