BEGIN:VCALENDAR
VERSION:2.0
PRODID:SchoolNow
CALSCALE:GREGORIAN
BEGIN:VEVENT
UID:632bcc28-0c6c-11ee-be45-0e1949ef45f7
DTSTAMP:20230616T173655Z
SUMMARY:School Board Meeting-January 3\, 2024
URL;VALUE=URI:https://www.orcsd.org/mw/calendar/4398432/school-board-meetin
 g-january-3-2024
DTSTART:20240104T000000Z
DTEND:20240104T020000Z
END:VEVENT
END:VCALENDAR
