BEGIN:VCALENDAR
VERSION:2.0
PRODID:SchoolNow
CALSCALE:GREGORIAN
BEGIN:VEVENT
UID:f777cdb4-0c6c-11ee-bffc-027af5c91315
DTSTAMP:20230616T174104Z
SUMMARY:School Board Meeting-January 17\, 2024
URL;VALUE=URI:https://www.orcsd.org/mw/calendar/4398445/school-board-meetin
 g-january-17-2024
DTSTART:20240118T000000Z
DTEND:20240118T020000Z
END:VEVENT
END:VCALENDAR
