BEGIN:VCALENDAR
VERSION:2.0
PRODID:SchoolNow
CALSCALE:GREGORIAN
BEGIN:VEVENT
UID:56a4a3a4-0c70-11ee-abaf-0af016dcfc85
DTSTAMP:20230616T180512Z
SUMMARY:School Board Meeting-May 15\, 2024
URL;VALUE=URI:https://www.orcsd.org/mw/calendar/4399472/school-board-meetin
 g-may-15-2024
DTSTART:20240515T230000Z
DTEND:20240516T010000Z
END:VEVENT
END:VCALENDAR
