BEGIN:VCALENDAR
VERSION:2.0
PRODID:SchoolNow
CALSCALE:GREGORIAN
BEGIN:VEVENT
UID:dd8aa02c-77ef-11ee-9049-02dcebd9e829
DTSTAMP:20231031T131846Z
SUMMARY:Joint Board Meeting with Barrington-January 23\, 2024
URL;VALUE=URI:https://www.orcsd.org/mw/calendar/4914352/joint-board-meeting
 -with-barrington
DTSTART:20240123T230000Z
DTEND:20240124T010000Z
END:VEVENT
END:VCALENDAR
