BEGIN:VCALENDAR
VERSION:2.0
PRODID:SchoolNow
CALSCALE:GREGORIAN
BEGIN:VEVENT
UID:3b0ca1ca-8eeb-11ee-93ad-0a58a9feac02
DTSTAMP:20240318T140914Z
SUMMARY:MW Willy Wonka Jr- April 11\, 2024\, at 6:30pm
URL;VALUE=URI:https://www.orcsd.org/mw/calendar/4974016/mw-spring-musical-a
 pril-11-2024
DTSTART:20240411T223000Z
DTEND:20240412T000000Z
END:VEVENT
END:VCALENDAR
