BEGIN:VCALENDAR
VERSION:2.0
PRODID:SchoolNow
CALSCALE:GREGORIAN
BEGIN:VEVENT
UID:a7c6bf9c-8eed-11ee-bccc-0e2cf3cdd053
DTSTAMP:20240123T192523Z
SUMMARY:MW Family Literacy Night - February 08\, 2024\, 5:30pm
URL;VALUE=URI:https://www.orcsd.org/mw/calendar/4974610/mw-family-literacy-
 night-february-08-2024-5-30pm
DTSTART:20240208T223000Z
DTEND:20240209T003000Z
ATTACH;FILENAME=2024 MW Family Literacy Night - Flyer.pdf;FMTTYPE=applicati
 on/pdf:https://campussuite-storage.s3.amazonaws.com/prod/1559153/a72578ba-
 8c6b-11ed-b6cf-0e21da113137/2729249/20fc9046-ba25-11ee-8596-0a58a9feac02/f
 ile/2024 MW Family Literacy Night - Flyer.pdf
END:VEVENT
END:VCALENDAR
