BEGIN:VCALENDAR
VERSION:2.0
PRODID:SchoolNow
CALSCALE:GREGORIAN
BEGIN:VEVENT
UID:a4738a58-a4b6-11ee-98e8-0e0ba7e0388f
DTSTAMP:20240104T150823Z
SUMMARY:MW Visiting author Matt Tavares - February 16\, 2024
URL;VALUE=URI:https://www.orcsd.org/mw/calendar/5064574/visiting-author-mat
 t-tavares-february-16-2024
DTSTART:20240216T150000Z
DTEND:20240216T203000Z
END:VEVENT
END:VCALENDAR
