BEGIN:VCALENDAR
VERSION:2.0
PRODID:SchoolNow
CALSCALE:GREGORIAN
BEGIN:VEVENT
UID:88dd8436-abf7-11ee-91ce-0a58a9feac02
DTSTAMP:20240105T182333Z
SUMMARY:Labor Day Observance - September 2\, 2024
URL;VALUE=URI:https://www.orcsd.org/mw/calendar/5109216/labor-day-observanc
 e-september-2-2024
DTSTART;VALUE=DATE:20240902
DTEND;VALUE=DATE:20240903
END:VEVENT
END:VCALENDAR
