BEGIN:VCALENDAR
VERSION:2.0
PRODID:SchoolNow
CALSCALE:GREGORIAN
BEGIN:VEVENT
UID:2c1c8eac-abf9-11ee-a523-0a58a9feac02
DTSTAMP:20240916T125531Z
SUMMARY:Colombus Day - October 14\, 2024
URL;VALUE=URI:https://www.orcsd.org/mw/calendar/5109222/indigenous-peoples-
 day-october-14-2024
DTSTART;VALUE=DATE:20241014
DTEND;VALUE=DATE:20241015
END:VEVENT
END:VCALENDAR
