BEGIN:VCALENDAR
VERSION:2.0
PRODID:SchoolNow
CALSCALE:GREGORIAN
BEGIN:VEVENT
UID:cf693cec-abfc-11ee-b20a-0a58a9feac02
DTSTAMP:20240920T172103Z
SUMMARY:Teacher Workshop Day - October 11\, 2024
URL;VALUE=URI:https://www.orcsd.org/mw/calendar/5109319/teacher-workshop-da
 y-october-11-2024
DTSTART;VALUE=DATE:20241011
DTEND;VALUE=DATE:20241012
END:VEVENT
END:VCALENDAR
