BEGIN:VCALENDAR
VERSION:2.0
PRODID:SchoolNow
CALSCALE:GREGORIAN
BEGIN:VEVENT
UID:abe6c33e-bae8-11ee-91dd-0a58a9feac02
DTSTAMP:20240130T143710Z
SUMMARY:MW Open Circle Parent Program-January 31\, 2024
LOCATION:Moharimet Elementary School
URL;VALUE=URI:https://www.orcsd.org/mw/calendar/5203089/open-circle-parent-
 program
DTSTART:20240131T233000Z
DTEND:20240201T010000Z
END:VEVENT
END:VCALENDAR
