BEGIN:VCALENDAR
VERSION:2.0
PRODID:SchoolNow
CALSCALE:GREGORIAN
BEGIN:VEVENT
UID:317b7bb6-baee-11ee-8889-0a58a9feac02
DTSTAMP:20240130T143724Z
SUMMARY:MW Open Circle Parent Program-February 7\, 2024
LOCATION:Moharimet School
URL;VALUE=URI:https://www.orcsd.org/mw/calendar/5203101/open-circle-parent-
 program-february-7-2024
DTSTART:20240207T233000Z
DTEND:20240208T010000Z
END:VEVENT
END:VCALENDAR
