BEGIN:VCALENDAR
VERSION:2.0
PRODID:SchoolNow
CALSCALE:GREGORIAN
BEGIN:VEVENT
UID:5786342c-baf3-11ee-a77c-0a58a9feac02
DTSTAMP:20240130T143759Z
SUMMARY:MW Open Circle Parent Program-February 14\, 2024
LOCATION:Moharimet School
URL;VALUE=URI:https://www.orcsd.org/mw/calendar/5203630/open-circle-parent-
 program-february-14-2024
DTSTART:20240214T233000Z
DTEND:20240215T010000Z
END:VEVENT
END:VCALENDAR
