BEGIN:VCALENDAR
VERSION:2.0
PRODID:SchoolNow
CALSCALE:GREGORIAN
BEGIN:VEVENT
UID:b5fc88ee-baf3-11ee-9f63-0a7c3638e6d3
DTSTAMP:20240130T143821Z
SUMMARY:MW Open Circle Parent Program-February 21\, 2024
LOCATION:Moharimet School
URL;VALUE=URI:https://www.orcsd.org/mw/calendar/5203631/open-circle-parent-
 program-february-21-2024
DTSTART:20240221T233000Z
DTEND:20240222T010000Z
END:VEVENT
END:VCALENDAR
