BEGIN:VCALENDAR
VERSION:2.0
PRODID:SchoolNow
CALSCALE:GREGORIAN
BEGIN:VEVENT
UID:1216bece-baf4-11ee-baf0-0a7c3638e6d3
DTSTAMP:20240130T143835Z
SUMMARY:MW Open Circle Parent Program-March 6\, 2024
LOCATION:Moharimet School
URL;VALUE=URI:https://www.orcsd.org/mw/calendar/5203634/open-circle-parent-
 program-march-6-2024
DTSTART:20240306T233000Z
DTEND:20240307T010000Z
END:VEVENT
END:VCALENDAR
