BEGIN:VCALENDAR
VERSION:2.0
PRODID:SchoolNow
CALSCALE:GREGORIAN
BEGIN:VEVENT
UID:3e164336-c6a8-11ee-9ce7-0a58a9feac02
DTSTAMP:20240208T204901Z
SUMMARY:MW Ode to Joy: A Second Grade Tribute to Composers-February 20\, 20
 24
LOCATION:Middle School Recital Hall
URL;VALUE=URI:https://www.orcsd.org/mw/calendar/5286388/ode-to-joy-a-second
 -grade-tribute-to-composers-february-20-2024
DTSTART:20240220T230000Z
DTEND:20240221T003000Z
END:VEVENT
END:VCALENDAR
