BEGIN:VCALENDAR
VERSION:2.0
PRODID:SchoolNow
CALSCALE:GREGORIAN
BEGIN:VEVENT
UID:6fb5caca-cc15-11ee-8ac7-0a58a9feac02
DTSTAMP:20240219T201003Z
SUMMARY:MW Kids Heart Challenge-March 14\, 2024
LOCATION:Mast Way Gymnasium
URL;VALUE=URI:https://www.orcsd.org/mw/calendar/5334442/kids-heart-challeng
 e-march-14-2024
DTSTART:20240314T130000Z
DTEND:20240314T192500Z
END:VEVENT
END:VCALENDAR
