BEGIN:VCALENDAR
VERSION:2.0
PRODID:SchoolNow
CALSCALE:GREGORIAN
BEGIN:VEVENT
UID:6422c1c2-cf2b-11ee-97d7-02f7e786e133
DTSTAMP:20240219T133256Z
SUMMARY:Teacher Workshop Day-May 24\, 2024
URL;VALUE=URI:https://www.orcsd.org/mw/calendar/5360310/teacher-workshop-da
 y-may-24-2024
DTSTART;VALUE=DATE:20240524
DTEND;VALUE=DATE:20240525
END:VEVENT
END:VCALENDAR
