BEGIN:VCALENDAR
VERSION:2.0
PRODID:SchoolNow
CALSCALE:GREGORIAN
BEGIN:VEVENT
UID:f2d59cf4-dca1-11ee-b3b1-0a58a9feac02
DTSTAMP:20240307T164421Z
SUMMARY:Scholastic Book Fair
LOCATION:Mast Way N. Commons
URL;VALUE=URI:https://www.orcsd.org/mw/calendar/5488073/scholastic-book-fai
 r
DTSTART;VALUE=DATE:20240311
DTEND;VALUE=DATE:20240316
END:VEVENT
END:VCALENDAR
