BEGIN:VCALENDAR
VERSION:2.0
PRODID:SchoolNow
CALSCALE:GREGORIAN
BEGIN:VEVENT
UID:baa12c58-dca2-11ee-8d93-0a58a9feac02
DTSTAMP:20240307T164956Z
SUMMARY:Scholastic Book Fair - Family Shop
LOCATION:Mast Way N. Commons
URL;VALUE=URI:https://www.orcsd.org/mw/calendar/5488074/scholastic-book-fai
 r-family-shop
DTSTART:20240313T203000Z
DTEND:20240313T223000Z
END:VEVENT
END:VCALENDAR
