BEGIN:VCALENDAR
VERSION:2.0
PRODID:SchoolNow
CALSCALE:GREGORIAN
BEGIN:VEVENT
UID:1ec68eda-dca3-11ee-86eb-0affe6953593
DTSTAMP:20240307T165244Z
SUMMARY:Scholastic Book Fair - Family Shop
LOCATION:Mast Way N. Commons
URL;VALUE=URI:https://www.orcsd.org/mw/calendar/5488075/scholastic-book-fai
 r-family-shop
DTSTART:20240317T130000Z
DTEND:20240317T160000Z
END:VEVENT
END:VCALENDAR
