BEGIN:VCALENDAR
VERSION:2.0
PRODID:SchoolNow
CALSCALE:GREGORIAN
BEGIN:VEVENT
UID:f200ee5a-e52f-11ee-9479-0e9dcc52f45d
DTSTAMP:20240318T140058Z
SUMMARY:Read Across America Week
URL;VALUE=URI:https://www.orcsd.org/mw/calendar/5573475/read-across-america
 -week
DTSTART:20240318T115900Z
DTEND:20240322T125900Z
END:VEVENT
END:VCALENDAR
