BEGIN:VCALENDAR
VERSION:2.0
PRODID:SchoolNow
CALSCALE:GREGORIAN
BEGIN:VEVENT
UID:924216fe-e531-11ee-8302-0a58a9feac02
DTSTAMP:20240318T141236Z
SUMMARY:Matt Hoenig from WMUR visits
URL;VALUE=URI:https://www.orcsd.org/mw/calendar/5573476/matt-hoenig-from-wm
 ur-visits
DTSTART:20240319T170000Z
DTEND:20240319T180000Z
END:VEVENT
END:VCALENDAR
