BEGIN:VCALENDAR
VERSION:2.0
PRODID:SchoolNow
CALSCALE:GREGORIAN
BEGIN:VEVENT
UID:327a583a-f116-11ee-9bed-0ef6ccb05d1b
DTSTAMP:20240429T150828Z
SUMMARY:MW Third Grade SAS Testing Math - May 21\, 2024
URL;VALUE=URI:https://www.orcsd.org/mw/calendar/5690698/third-grade-sas-tes
 ting-math-may-21-2024
DTSTART:20240521T131500Z
DTEND:20240521T154500Z
END:VEVENT
END:VCALENDAR
