BEGIN:VCALENDAR
VERSION:2.0
PRODID:SchoolNow
CALSCALE:GREGORIAN
BEGIN:VEVENT
UID:75d88840-f116-11ee-bc28-0affc4084d4d
DTSTAMP:20240429T150844Z
SUMMARY:MW Third Grade SAS Testing Make-ups - May 23\, 2024
URL;VALUE=URI:https://www.orcsd.org/mw/calendar/5690699/third-grade-sas-tes
 ting-make-ups-may-23-2024
DTSTART:20240523T131500Z
DTEND:20240523T154500Z
END:VEVENT
END:VCALENDAR
