BEGIN:VCALENDAR
VERSION:2.0
PRODID:SchoolNow
CALSCALE:GREGORIAN
BEGIN:VEVENT
UID:b65ec67c-f116-11ee-a5e7-0a58a9feac02
DTSTAMP:20240429T150902Z
SUMMARY:MW Fourth Grade SAS Testing Reading - May 29\, 2024
URL;VALUE=URI:https://www.orcsd.org/mw/calendar/5690704/fourth-grade-sas-te
 sting-reading-may-29-2024
DTSTART:20240529T155500Z
DTEND:20240529T182500Z
END:VEVENT
END:VCALENDAR
