BEGIN:VCALENDAR
VERSION:2.0
PRODID:SchoolNow
CALSCALE:GREGORIAN
BEGIN:VEVENT
UID:1750e4e2-f117-11ee-a42c-0a58a9feac02
DTSTAMP:20240429T150918Z
SUMMARY:MW Fourth Grade SAS Testing Math - May 30\, 2024
URL;VALUE=URI:https://www.orcsd.org/mw/calendar/5690705/fourth-grade-sas-te
 sting-math-may-30-2024
DTSTART:20240530T155500Z
DTEND:20240530T182500Z
END:VEVENT
END:VCALENDAR
