BEGIN:VCALENDAR
VERSION:2.0
PRODID:SchoolNow
CALSCALE:GREGORIAN
BEGIN:VEVENT
UID:dfca31ee-f117-11ee-8eaa-02b06f51b777
DTSTAMP:20240429T150946Z
SUMMARY:MW Fourth Grade SAS Testing Make-ups - May 31\, 2024
URL;VALUE=URI:https://www.orcsd.org/mw/calendar/5690706/fourth-grade-sas-te
 sting-make-ups-may-31-2024
DTSTART:20240531T155500Z
DTEND:20240531T182500Z
END:VEVENT
END:VCALENDAR
