BEGIN:VCALENDAR
VERSION:2.0
PRODID:SchoolNow
CALSCALE:GREGORIAN
BEGIN:VEVENT
UID:14782f3a-fcf4-11ee-b216-02a9c04aafb1
DTSTAMP:20240521T140832Z
SUMMARY:School Board Meeting-June 20\, 2024
URL;VALUE=URI:https://www.orcsd.org/mw/calendar/5805171/school-board-meetin
 g-june-20-2024
DTSTART:20240620T230000Z
DTEND:20240621T010000Z
END:VEVENT
END:VCALENDAR
