BEGIN:VCALENDAR
VERSION:2.0
PRODID:SchoolNow
CALSCALE:GREGORIAN
BEGIN:VEVENT
UID:6dc9bfbe-fd93-11ee-8bcd-027f9a00ebb7
DTSTAMP:20240418T150858Z
SUMMARY:Last Day of School - June 14\, 2024
URL;VALUE=URI:https://www.orcsd.org/mw/calendar/5810224/last-day-of-school-
 june-14-2024
DTSTART;VALUE=DATE:20240614
DTEND;VALUE=DATE:20240615
END:VEVENT
END:VCALENDAR
