BEGIN:VCALENDAR
VERSION:2.0
PRODID:SchoolNow
CALSCALE:GREGORIAN
BEGIN:VEVENT
UID:8d162cb0-08b8-11ef-9974-0a58a9feac02
DTSTAMP:20240505T145806Z
SUMMARY:MW Kindergarten Robotics and Rice Krispies-May 2\, 2024
LOCATION:Mast Way Elementary School
URL;VALUE=URI:https://www.orcsd.org/mw/calendar/5901451/kindergarten-roboti
 cs-and-rice-krispies-may-2-2024
DTSTART:20240502T210000Z
DTEND:20240502T220000Z
END:VEVENT
END:VCALENDAR
