BEGIN:VCALENDAR
VERSION:2.0
PRODID:SchoolNow
CALSCALE:GREGORIAN
BEGIN:VEVENT
UID:9876386e-08ba-11ef-a418-0a58a9feac02
DTSTAMP:20240505T150249Z
SUMMARY:MW Annual School Wide Art Show-May 30\, 2024
LOCATION:Mast Way Elementary School
URL;VALUE=URI:https://www.orcsd.org/mw/calendar/5901456/annual-school-wide-
 art-show-may-30-2024
DTSTART:20240530T213000Z
DTEND:20240530T233000Z
END:VEVENT
END:VCALENDAR
