BEGIN:VCALENDAR
VERSION:2.0
PRODID:SchoolNow
CALSCALE:GREGORIAN
BEGIN:VEVENT
UID:7e1a64f0-0968-11ef-ac1a-0ea22840240b
DTSTAMP:20240505T145937Z
SUMMARY:MW Principal Sullivan and Counselor Gahm visit 4th grade - May 31\,
  2024
LOCATION:Mast Way Elementary School
URL;VALUE=URI:https://www.orcsd.org/mw/calendar/5906125/prinicipal-sullivan
 -and-counselor-gahm-visit-4th-grade-may-31-2024
DTSTART:20240531T160000Z
DTEND:20240531T164500Z
END:VEVENT
END:VCALENDAR
