BEGIN:VCALENDAR
VERSION:2.0
PRODID:SchoolNow
CALSCALE:GREGORIAN
BEGIN:VEVENT
UID:4c40c652-096a-11ef-b332-02f6d10f2f09
DTSTAMP:20240505T150203Z
SUMMARY:MW PTO May Fair - May 31\, 2024
LOCATION:Mast Way Elementary School
URL;VALUE=URI:https://www.orcsd.org/mw/calendar/5906126/pto-may-fair-may-31
 -2024
DTSTART:20240531T213000Z
DTEND:20240531T230000Z
END:VEVENT
END:VCALENDAR
