BEGIN:VCALENDAR
VERSION:2.0
PRODID:SchoolNow
CALSCALE:GREGORIAN
BEGIN:VEVENT
UID:3b2e002c-096b-11ef-929e-0a58a9feac02
DTSTAMP:20240505T150714Z
SUMMARY:MW ORMS Parent Night for Rising 5th Graders - June 4\, 2024
LOCATION:Middle School
URL;VALUE=URI:https://www.orcsd.org/mw/calendar/5906127/orms-parent-night-f
 or-rising-5th-graders-june-4-6-00-7-00pm
DTSTART:20240604T220000Z
DTEND:20240604T230000Z
END:VEVENT
END:VCALENDAR
